View In:
ArcGIS JavaScript
ArcGIS Online Map Viewer
ArcGIS Earth
ArcGIS Pro
Service Description: <DIV STYLE="text-align:Left;font-size:12pt"><DIV><DIV><P><SPAN>2020 aerial photography (web mercator projection)</SPAN></P></DIV></DIV></DIV>
Map Name: aerial_photography_2020_WM
Legend
All Layers and Tables
Layers:
Description: <DIV STYLE="text-align:Left;font-size:12pt"><DIV><DIV><P><SPAN>2020 aerial photography (web mercator projection)</SPAN></P></DIV></DIV></DIV>
Copyright Text:
Spatial Reference:
102100
(3857)
LatestVCSWkid(0)
Single Fused Map Cache: true
Tile Info:
- Height: 256.0
- Width: 256.0
- DPI: 96.0
-
Levels of Detail: 22
-
Level ID: 0
[ Start Tile, End Tile ]
- Resolution: 156543.03392800014
- Scale: 5.91657527591555E8
-
Level ID: 1
[ Start Tile, End Tile ]
- Resolution: 78271.51696399994
- Scale: 2.95828763795777E8
-
Level ID: 2
[ Start Tile, End Tile ]
- Resolution: 39135.75848200009
- Scale: 1.47914381897889E8
-
Level ID: 3
[ Start Tile, End Tile ]
- Resolution: 19567.87924099992
- Scale: 7.3957190948944E7
-
Level ID: 4
[ Start Tile, End Tile ]
- Resolution: 9783.93962049996
- Scale: 3.6978595474472E7
-
Level ID: 5
[ Start Tile, End Tile ]
- Resolution: 4891.96981024998
- Scale: 1.8489297737236E7
-
Level ID: 21
[ Start Tile, End Tile ]
- Resolution: 0.07464553544497715
- Scale: 282.124294125
- Format: JPEG
- Compression Quality: 90.0
- Origin: X: -2.0037508342787E7
Y: 2.0037508342787E7
- Spatial Reference: 102100
(3857)
LatestVCSWkid(0)
Storage Info:
- Storage Format: esriMapCacheStorageModeCompactV2
- Packet Size: 128
Initial Extent:
XMin: -9056004.03218313
YMin: 5236869.798120478
XMax: -8923098.266371604
YMax: 5410050.038420344
Spatial Reference: 102100
(0)
LatestVCSWkid(0)
Full Extent:
XMin: -9031630.27952486
YMin: 5285049.643964177
XMax: -8953976.900217177
YMax: 5365958.040132692
Spatial Reference: 102100
(0)
LatestVCSWkid(0)
Units: esriMeters
Supported Image Format Types: PNG32,PNG24,PNG,JPG,DIB,TIFF,EMF,PS,PDF,GIF,SVG,SVGZ,BMP
Document Info:
Title: aerial_photography_2020_WM
Author:
Comments: <DIV STYLE="text-align:Left;font-size:12pt"><DIV><DIV><P><SPAN>2020 aerial photography (web mercator projection)</SPAN></P></DIV></DIV></DIV>
Subject: 2020 aerial photography WM
Category:
Keywords: basemap,imagery,2020,swoop,wm
AntialiasingMode: Fast
TextAntialiasingMode: Force
Supports Dynamic Layers: false
MaxRecordCount: 2000
MaxSelectionCount: 2000
MaxImageHeight: 4096
MaxImageWidth: 4096
Supported Query Formats: JSON, geoJSON, PBF
Supports Query Data Elements: true
Min Scale: 5.91657527591555E8
Max Scale: 282.124294125
Supports Datum Transformation: true
Child Resources:
Info
Supported Operations:
Export Map
Identify
QueryLegends
QueryDomains
Find
Return Updates