{ "currentVersion": 11.4, "cimVersion": "3.4.0", "serviceDescription": "
2020 aerial photography<\/SPAN><\/P><\/DIV>",
"mapName": "aerial_photography_2020",
"description": " 2020 aerial photography<\/SPAN><\/P><\/DIV>",
"copyrightText": "",
"supportsDynamicLayers": false,
"layers": [
{
"id": 1,
"name": "limits_polygon",
"parentLayerId": -1,
"defaultVisibility": true,
"subLayerIds": null,
"minScale": 0,
"maxScale": 0,
"type": "Feature Layer",
"geometryType": "esriGeometryPolygon",
"supportsDynamicLegends": true
}
],
"tables": [],
"spatialReference": {
"wkid": 26917,
"latestWkid": 26917,
"xyTolerance": 0.001,
"zTolerance": 0.001,
"mTolerance": 0.001,
"falseX": -5120900,
"falseY": -9998100,
"xyUnits": 4.504455473910538E8,
"falseZ": -100000,
"zUnits": 10000,
"falseM": -100000,
"mUnits": 10000
},
"singleFusedMapCache": true,
"tileInfo": {
"rows": 256,
"cols": 256,
"dpi": 96,
"format": "JPEG",
"compressionQuality": 90,
"origin": {
"x": -5120900,
"y": 9998100
},
"spatialReference": {
"wkid": 26917,
"latestWkid": 26917,
"xyTolerance": 1.9494026806846203,
"zTolerance": 0.001,
"mTolerance": 0.001,
"falseX": -5120900,
"falseY": -9998100,
"xyUnits": 4.504455473910538E8,
"falseZ": -100000,
"zUnits": 10000,
"falseM": -100000,
"mUnits": 10000
},
"lods": [
{
"level": 0,
"resolution": 135.46693760054188,
"scale": 512000
},
{
"level": 1,
"resolution": 67.73346880027094,
"scale": 256000
},
{
"level": 2,
"resolution": 33.86673440013547,
"scale": 128000
},
{
"level": 3,
"resolution": 16.933367200067735,
"scale": 64000
},
{
"level": 4,
"resolution": 8.466683600033868,
"scale": 32000
},
{
"level": 5,
"resolution": 4.233341800016934,
"scale": 16000
},
{
"level": 6,
"resolution": 2.116670900008467,
"scale": 8000
},
{
"level": 7,
"resolution": 1.0583354500042335,
"scale": 4000
},
{
"level": 8,
"resolution": 0.5291677250021167,
"scale": 2000
},
{
"level": 9,
"resolution": 0.26458386250105836,
"scale": 1000
},
{
"level": 10,
"resolution": 0.13229193125052918,
"scale": 500
}
]
},
"storageInfo": {
"storageFormat": "esriMapCacheStorageModeCompactV2",
"packetSize": 128
},
"initialExtent": {
"xmin": 464075.8714593811,
"ymin": 4653827.399417858,
"xmax": 573533.157040619,
"ymax": 4875180.3754571425,
"spatialReference": {
"wkid": 26917,
"latestWkid": 26917,
"xyTolerance": 0.001,
"zTolerance": 0.001,
"mTolerance": 0.001,
"falseX": -5120900,
"falseY": -9998100,
"xyUnits": 4.504455473910538E8,
"falseZ": -100000,
"zUnits": 10000,
"falseM": -100000,
"mUnits": 10000
}
},
"fullExtent": {
"xmin": 452146.61899999995,
"ymin": 4714299.523250001,
"xmax": 585462.4095000001,
"ymax": 4814708.251625,
"spatialReference": {
"wkid": 26917,
"latestWkid": 26917,
"xyTolerance": 0.001,
"zTolerance": 0.001,
"mTolerance": 0.001,
"falseX": -5120900,
"falseY": -9998100,
"xyUnits": 4.504455473910538E8,
"falseZ": -100000,
"zUnits": 10000,
"falseM": -100000,
"mUnits": 10000
}
},
"datesInUnknownTimezone": false,
"minScale": 512000,
"maxScale": 500,
"units": "esriMeters",
"supportedImageFormatTypes": "PNG32,PNG24,PNG,JPG,DIB,TIFF,EMF,PS,PDF,GIF,SVG,SVGZ,BMP",
"documentInfo": {
"Title": "aerial_photography_2020",
"Author": "",
"Comments": " 2020 aerial photography<\/SPAN><\/P><\/DIV>",
"Subject": "2020 aerial photography",
"Category": "",
"Version": "3.1.0",
"AntialiasingMode": "Fast",
"TextAntialiasingMode": "Force",
"Keywords": "basemap,imagery,2020,swoop"
},
"supportsQueryDomains": true,
"capabilities": "Map,Query,Data",
"supportedQueryFormats": "JSON, geoJSON, PBF",
"exportTilesAllowed": false,
"referenceScale": 0.0,
"supportsDatumTransformation": true,
"archivingInfo": {"supportsHistoricMoment": false},
"supportsClipping": true,
"supportsSpatialFilter": true,
"supportsTimeRelation": true,
"supportsQueryDataElements": true,
"mapUnits": {"uwkid": 9001},
"maxSelectionCount": 2000,
"maxRecordCount": 2000,
"maxImageHeight": 4096,
"maxImageWidth": 4096,
"supportedExtensions": "",
"resampling": false
}