{ "currentVersion": 11.4, "cimVersion": "3.4.0", "serviceDescription": "
Oxford Community Map basemap<\/SPAN><\/P><\/DIV>",
"mapName": "Oxford_CMap",
"description": " Oxford Community Map basemap<\/SPAN><\/P><\/DIV>",
"copyrightText": "",
"supportsDynamicLayers": false,
"layers": [
{
"id": 0,
"name": "limits_polygon",
"parentLayerId": -1,
"defaultVisibility": true,
"subLayerIds": null,
"minScale": 0,
"maxScale": 0,
"type": "Feature Layer",
"geometryType": "esriGeometryPolygon",
"supportsDynamicLegends": true
}
],
"tables": [],
"spatialReference": {
"wkid": 26917,
"latestWkid": 26917,
"xyTolerance": 0.001,
"zTolerance": 0.001,
"mTolerance": 0.001,
"falseX": -5120900,
"falseY": -9998100,
"xyUnits": 10000,
"falseZ": -100000,
"zUnits": 10000,
"falseM": -100000,
"mUnits": 10000
},
"singleFusedMapCache": true,
"tileInfo": {
"rows": 256,
"cols": 256,
"dpi": 96,
"format": "PNG32",
"compressionQuality": 0,
"origin": {
"x": -5120900,
"y": 9998100
},
"spatialReference": {
"wkid": 26917,
"latestWkid": 26917,
"xyTolerance": 0.001,
"zTolerance": 0.001,
"mTolerance": 0.001,
"falseX": -5120900,
"falseY": -9998100,
"xyUnits": 4.504455473910538E8,
"falseZ": -100000,
"zUnits": 10000,
"falseM": -100000,
"mUnits": 10000
},
"lods": [
{
"level": 0,
"resolution": 270.93387520108377,
"scale": 1024000
},
{
"level": 1,
"resolution": 135.46693760054188,
"scale": 512000
},
{
"level": 2,
"resolution": 67.73346880027094,
"scale": 256000
},
{
"level": 3,
"resolution": 33.86673440013547,
"scale": 128000
},
{
"level": 4,
"resolution": 16.933367200067735,
"scale": 64000
},
{
"level": 5,
"resolution": 8.466683600033868,
"scale": 32000
},
{
"level": 6,
"resolution": 4.233341800016934,
"scale": 16000
},
{
"level": 7,
"resolution": 2.116670900008467,
"scale": 8000
},
{
"level": 8,
"resolution": 1.0583354500042335,
"scale": 4000
},
{
"level": 9,
"resolution": 0.5291677250021167,
"scale": 2000
},
{
"level": 10,
"resolution": 0.26458386250105836,
"scale": 1000
},
{
"level": 11,
"resolution": 0.13229193125052918,
"scale": 500
}
]
},
"storageInfo": {
"storageFormat": "esriMapCacheStorageModeCompactV2",
"packetSize": 128
},
"initialExtent": {
"xmin": -3633617.8935644245,
"ymin": 455996.26862022746,
"xmax": 4263894.15345473,
"ymax": 9986671.811330196,
"spatialReference": {
"wkid": 26917,
"latestWkid": 26917,
"xyTolerance": 0.001,
"zTolerance": 0.001,
"mTolerance": 0.001,
"falseX": -5120900,
"falseY": -9998100,
"xyUnits": 10000,
"falseZ": -100000,
"zUnits": 10000,
"falseM": -100000,
"mUnits": 10000
}
},
"fullExtent": {
"xmin": 432673.9852748833,
"ymin": 4705610.033774253,
"xmax": 605123.0600251161,
"ymax": 4823330.572625747,
"spatialReference": {
"wkid": 26917,
"latestWkid": 26917,
"xyTolerance": 0.001,
"zTolerance": 0.001,
"mTolerance": 0.001,
"falseX": -5120900,
"falseY": -9998100,
"xyUnits": 10000,
"falseZ": -100000,
"zUnits": 10000,
"falseM": -100000,
"mUnits": 10000
}
},
"datesInUnknownTimezone": false,
"minScale": 1024000,
"maxScale": 250,
"units": "esriMeters",
"supportedImageFormatTypes": "PNG32,PNG24,PNG,JPG,DIB,TIFF,EMF,PS,PDF,GIF,SVG,SVGZ,BMP",
"documentInfo": {
"Title": "Oxford_CMap",
"Author": "",
"Comments": " Oxford Community Map basemap<\/SPAN><\/P><\/DIV>",
"Subject": "Oxford CMap",
"Category": "",
"Version": "3.1.0",
"AntialiasingMode": "Fast",
"TextAntialiasingMode": "Force",
"Keywords": "basemap,cmap,imagery,parcels,community map"
},
"supportsQueryDomains": true,
"capabilities": "Map,Query,Data",
"supportedQueryFormats": "JSON, geoJSON, PBF",
"exportTilesAllowed": false,
"referenceScale": 0.0,
"datumTransformations": [
{
"geoTransforms": [
{
"wkid": 108001,
"latestWkid": 1241,
"transformForward": true,
"name": "NAD_1927_To_NAD_1983_NADCON"
}
]
},
{
"geoTransforms": [
{
"wkid": 108001,
"latestWkid": 1241,
"transformForward": false,
"name": "NAD_1927_To_NAD_1983_NADCON"
}
]
}
],
"supportsDatumTransformation": true,
"floorAwareMapProperties": {
"defaultFloorFilterSettings": {"isEnabled": false}
},
"archivingInfo": {"supportsHistoricMoment": false},
"supportsClipping": true,
"supportsSpatialFilter": true,
"supportsTimeRelation": true,
"supportsQueryDataElements": true,
"mapUnits": {"uwkid": 9001},
"maxSelectionCount": 2000,
"maxRecordCount": 2000,
"maxImageHeight": 4096,
"maxImageWidth": 4096,
"supportedExtensions": "",
"resampling": false
}